BEGIN:VCALENDAR
VERSION:2.0
PRODID:-//Cosgrove Care - ECPv6.15.1.1//NONSGML v1.0//EN
CALSCALE:GREGORIAN
METHOD:PUBLISH
X-WR-CALNAME:Cosgrove Care
X-ORIGINAL-URL:https://www.cosgrovecare.org.uk
X-WR-CALDESC:Events for Cosgrove Care
REFRESH-INTERVAL;VALUE=DURATION:PT1H
X-Robots-Tag:noindex
X-PUBLISHED-TTL:PT1H
BEGIN:VTIMEZONE
TZID:Europe/London
BEGIN:DAYLIGHT
TZOFFSETFROM:+0000
TZOFFSETTO:+0100
TZNAME:BST
DTSTART:20230326T010000
END:DAYLIGHT
BEGIN:STANDARD
TZOFFSETFROM:+0100
TZOFFSETTO:+0000
TZNAME:GMT
DTSTART:20231029T010000
END:STANDARD
END:VTIMEZONE
BEGIN:VEVENT
DTSTART;TZID=Europe/London:20231105T190000
DTEND;TZID=Europe/London:20231105T220000
DTSTAMP:20260422T111045
CREATED:20231017T132359Z
LAST-MODIFIED:20231106T135341Z
UID:3455-1699210800-1699221600@www.cosgrovecare.org.uk
SUMMARY:Tribute Concert: The Elton John Experience!
DESCRIPTION:November 5th – 7:30pm – Tickets £22.50 per person. \nJoin Cosgrove Care for the return of their hugely popular tribute concert night at the Eastwood Park Theatre! \nThis year Cosgrove bring “Elton John”\, a tribute act with an uncanny resemblance in voice and looks to Sir Elton John! Elite Elton has performed across the world\, and performed on various high profile TV and radio shows\, as well as being an award winning finalist at the National Tribute Music Awards! \n\nTickets are on sale now: Cosgrove Care Presents: The Elton John Experience! \nFor more information please contact our fundraising team at fundraising@cosgrovecare.org.uk or call 0141 620 2500
URL:https://www.cosgrovecare.org.uk/event/tribute-concert-the-elton-john-experience/
LOCATION:Eastwood Park Theatre\, Rouken Glen Rd\, Giffnock\, East Renfrewshire\, G46 6UG\, United Kingdom
ATTACH;FMTTYPE=image/jpeg:https://www.cosgrovecare.org.uk/wp-content/uploads/2023/05/Elite_Elton_Live_Town_Hall_Bridgwater_03-12-22_040-copy.jpg
ORGANIZER;CN="Cosgrove":MAILTO:Fundraising@cosgrovecare.org.uk
END:VEVENT
END:VCALENDAR