BEGIN:VCALENDAR
VERSION:2.0
PRODID:-//Cosgrove Care - ECPv6.15.1.1//NONSGML v1.0//EN
CALSCALE:GREGORIAN
METHOD:PUBLISH
X-WR-CALNAME:Cosgrove Care
X-ORIGINAL-URL:https://www.cosgrovecare.org.uk
X-WR-CALDESC:Events for Cosgrove Care
REFRESH-INTERVAL;VALUE=DURATION:PT1H
X-Robots-Tag:noindex
X-PUBLISHED-TTL:PT1H
BEGIN:VTIMEZONE
TZID:Europe/London
BEGIN:DAYLIGHT
TZOFFSETFROM:+0000
TZOFFSETTO:+0100
TZNAME:BST
DTSTART:20250330T010000
END:DAYLIGHT
BEGIN:STANDARD
TZOFFSETFROM:+0100
TZOFFSETTO:+0000
TZNAME:GMT
DTSTART:20251026T010000
END:STANDARD
END:VTIMEZONE
BEGIN:VEVENT
DTSTART;VALUE=DATE:20251102
DTEND;VALUE=DATE:20251113
DTSTAMP:20260420T105932
CREATED:20251022T132031Z
LAST-MODIFIED:20251119T161934Z
UID:5157-1762041600-1762991999@www.cosgrovecare.org.uk
SUMMARY:'Reflections of Autumn' Art Exhibition
DESCRIPTION:Cosgrove Care is proud to present an art exhibition being held at Eastwood Park Theatre between the period of November 2nd until the 12th. We invite you to view the wonderful artworks created by the people supported by the charity which features a diverse range of subjects such as beautiful flowers\, landscapes and more besides. \nThe gallery is being hosted on the second floor at Eastwood Park Theatre and is wheelchair accessible\, if you require more information please contact care@cosgrovecare.org.uk.
URL:https://www.cosgrovecare.org.uk/event/reflections-of-autumn-art-exhibition/
LOCATION:Eastwood Park Theatre\, Rouken Glen Rd\, Giffnock\, East Renfrewshire\, G46 6UG\, United Kingdom
ATTACH;FMTTYPE=image/png:https://www.cosgrovecare.org.uk/wp-content/uploads/2025/10/ArtExhibitionEventBanner.png
ORGANIZER;CN="Cosgrove":MAILTO:Fundraising@cosgrovecare.org.uk
END:VEVENT
END:VCALENDAR